Workbook

Sheet Breeding numbers
A1: Breeding numbers
B3: Number of breeders needed to maintain 2 generation for 2 years | C3: Number of offspring produced from 12,24, 26 or 36 mating pairs with a clutch size of 100 | D3: Number of offspring put back into the colony for mating | E3: Number of offspring used for experiments | F3: Number of offspring that can still be used if issue arise (i.e. one gender is low, embryo die)
A4: Name of line | B4: # breeders | C4: # offspring produced | D4: # offspring used for mating | E4: # offspring used for experiments | F4: # offspring currently not assigned
A5: Nemo-WT | B5: 320 | C5: 2600 | D5: 320 | E5: =C5*0.5 -> 1300 | F5: =(C5-D5-E5) -> 980
A6: Dorey-WT | B6: 320 | C6: 2600 | D6: 320 | E6: =C6*0.5 -> 1300 | F6: =(C6-D6-E6) -> 980
A7: Gill -/+ | B7: 80 | C7: 1200 | D7: 80 | E7: =C7*0.5 -> 600 | F7: =(C7-D7-E7) -> 520
A8: Bloat -/+ | B8: 80 | C8: 1200 | D8: 80 | E8: =C8*0.5 -> 600 | F8: =(C8-D8-E8) -> 520
A9: Bubbles mutants (3 alleles) | B9: 240 | C9: 3600 | D9: 240 | E9: =C9*0.5 -> 1800 | F9: =(C9-D9-E9) -> 1560
A10: Gurgle mutants (2 alleles) | B10: 160 | C10: 2400 | D10: 160 | E10: =C10*0.5 -> 1200 | F10: =(C10-D10-E10) -> 1040
A11: Bruce double mutant | B11: 80 | C11: 1200 | D11: 80 | E11: =C11*0.5 -> 600 | F11: =(C11-D11-E11) -> 520
A12: Destiny mutant (2 alleles) | B12: 160 | C12: 2400 | D12: 160 | E12: =C12*0.5 -> 1200 | F12: =(C12-D12-E12) -> 1040
A13: Flounder mutant | B13: 80 | C13: 1200 | D13: 80 | E13: =C13*0.5 -> 600 | F13: =(C13-D13-E13) -> 520
A14: Gill -/+; Tg[isl2b:EGFP] | B14: 80 | C14: 1200 | D14: 80 | E14: =C14*0.5 -> 600 | F14: =(C14-D14-E14) -> 520
A15: Bloat -/+; Tg[hmx1:Cre] | B15: 80 | C15: 1200 | D15: 80 | E15: =C15*0.5 -> 600 | F15: =(C15-D15-E15) -> 520
A16: Tg[isl2b:EGFP] | B16: 80 | C16: 1200 | D16: 80 | E16: =C16*0.5 -> 600 | F16: =(C16-D16-E16) -> 520
A17: Tg[hmx1:Cre] | B17: 80 | C17: 1200 | D17: 80 | E17: =C17*0.5 -> 600 | F17: =(C17-D17-E17) -> 520
A18: TOTAL FISH NUMBER | B18: =SUM(B5:B17) -> 1840 | C18: =SUM(C5:C17) -> 23200 | D18: =SUM(D5:D17) -> 1840 | E18: =SUM(E5:E17) -> 11600 | F18: =SUM(F5:F17) -> 9760
A19: * each tank contains on average 20 fish
A21: Total number of animals over the 3 year time frame | B21: =B18*1.5 -> 2760 | C21: =C18*1.5 -> 34800 | D21: =D18*1.5 -> 2760 | E21: =E18*1.5 -> 17400 | F21: =F18*1.5 -> 14640

Sheet Number Justification
A1: Animal Number Justification-Tables for a 3 year protocol
A2: Table 1: Overview of the animals needed:
A3: Animal Species | B3: Category B # Animals | C3: Category C # Animals | D3: Category D # Animals
A4: Adult zebrafish | B4: =('Breeding numbers'!D21+'Breeding numbers'!F21)-D4 -> 15840 | C4: ='Breeding numbers'!F21 -> 14640 | D4: ='Line justification'!C18*1.5 -> 1560
A5: Experimental zebrafish | B5: - | C5: ='Breeding numbers'!E21 -> 17400 | D5: -
A6: TOTAL | B6: =SUM(B4,B5) -> 15840 | C6: =SUM(C4,C5) -> 32040 | D6: =SUM(D4,D5) -> 1560
A7: Table 2: Number of animals required for the experiments proposed over the course of the study:
A8: Type of fish | B8: Purpose | E8: number | G8: Procedure type
A9: Adult zebrafish | B9: a) Breeding | E9: ='Breeding numbers'!D21-E10 -> 1200 | G9: Category B | H9: This number takes into account that 1040 breeders will need to be genotyped
B10: b) fin biopsies | E10: ='Line justification'!C18*1.5 -> 1560 | G10: Category D | H10: # of fish genotyped
A11: Embryonic zebrafish | B11: c) Live microscopic observation | E11: ='Breeding numbers'!E21 -> 17400 | G11: Category C | H11: # of fish used in experiments
B12: d) Analysis of embryos | E12: =8*25*9 -> 1800 | G12: Category C | H12: This number is based on using 25 animals for 8 different analysis for 9 different strains
B13: d) Raising to adulthood | E13: ='Breeding numbers'!F21+'Breeding numbers'!D21 -> 17400 | G13: Category B, C or D | H13: In Table 1, animals not used are in Category C but they could also go in Category B, C, D, or E
A14: *Adults for procedure b will be taken from the breeding colony **Embryos for procedure d will be taken from the pool of embryos used for live microscopic observation (procedure c) and are thus not counted in the total animals in Category C in Table 1.
A16: Reminder - Zebrafish offspring are not included in the animal counts until they are 72 hour post fertilization (hpf)

Sheet Line justification
A1: Animal number justification per line
A2: This table only shows the number of animals for two years. You must multiple by 1.5 to get the 3 year numbers.
B3: These animals are Category B | C3: These animals are Category C because of the use of anesthesia | D3: These animals are Category B | E3: These animals are either Category C, D or E depending on the experiment
A4: Name of line | B4: # of Breeders | C4: genotyping** | D4: offspring used for mating | E4: offspring produced
A5: Nemo-WT | B5: 320 | D5: 320 | E5: 2600
A6: Dorey-WT | B6: 320 | D6: 320 | E6: 2600
A7: Gill -/+ | B7: 80 | C7: 80 | D7: 80 | E7: 1200 | F7: Here the breeders are moved to Category C because of genotyping
A8: Bloat -/+ | B8: 80 | C8: 80 | D8: 80 | E8: 1200 | F8: They only need to be counted once in Category C
A9: Bubbles mutants (3 alleles) | B9: 240 | C9: 240 | D9: 240 | E9: 3600
A10: Gurgle mutants (2 alleles) | B10: 160 | C10: 160 | D10: 160 | E10: 2400
A11: Brusce double mutant | B11: 80 | C11: 80 | D11: 80 | E11: 1200
A12: Destiny mutant (2 alleles) | B12: 160 | C12: 160 | D12: 160 | E12: 2400
A13: Flounder mutant | B13: 80 | C13: 80 | D13: 80 | E13: 1200
A14: Gill -/+; Tg[isl2b:EGFP] | B14: 80 | C14: 80 | D14: 80 | E14: 1200
A15: Bloat -/+; Tg[isl2b:TagRFP] | B15: 80 | C15: 80 | D15: 80 | E15: 1200
A16: Tg[isl2b:EGFP] | B16: 80 | D16: 80 | E16: 1200
A17: Tg[hmx1:Cre] | B17: 80 | D17: 80 | E17: 1200
A18: TOTAL FISH NUMBER | B18: =SUM(B5:B17) -> 1840 | C18: =SUM(C5:C17) -> 1040 | D18: =SUM(D5:D17) -> 1840 | E18: =SUM(E5:E17) -> 23200
A19: * each tank contains on average 20 fish | D19: \
A20: ** lines requiring fin biopsies for genotyping
